BEGIN:VCALENDAR
VERSION:2.0
PRODID:-//VŠCHT Praha//TOP Seminars//CS
CALSCALE:GREGORIAN
METHOD:PUBLISH
BEGIN:VEVENT
UID:tops-20260416-durovic@vscht.cz
DTSTAMP:20260410T180000Z ← čas poslední úpravy
DTSTART;TZID=Europe/Prague:20260416T130000
DTEND;TZID=Europe/Prague:20260416T140000
SUMMARY:Seminář ÚP VŠCHT: Prof. Ing. Michal Ďurovič, PhD
LOCATION:A12, Ústav polymerů, VŠCHT Praha
DESCRIPTION:Název přednášky: Materiálový a technologický výzkum v památkové péči - 40 let s přírodními polymery\nVíce informací: https://pol.vscht.cz/vyzkum/TOPs
STATUS:CONFIRMED
END:VEVENT
END:VCALENDAR
